BEGIN:VCALENDAR
VERSION:2.0
PRODID:-//Photo-coco - ECPv5.14.0.1//NONSGML v1.0//EN
CALSCALE:GREGORIAN
METHOD:PUBLISH
X-WR-CALNAME:Photo-coco
X-ORIGINAL-URL:https://www.photo-coco.com
X-WR-CALDESC:Events for Photo-coco
BEGIN:VTIMEZONE
TZID:Europe/Rome
BEGIN:DAYLIGHT
TZOFFSETFROM:+0100
TZOFFSETTO:+0200
TZNAME:CEST
DTSTART:20170326T010000
END:DAYLIGHT
BEGIN:STANDARD
TZOFFSETFROM:+0200
TZOFFSETTO:+0100
TZNAME:CET
DTSTART:20171029T010000
END:STANDARD
END:VTIMEZONE
BEGIN:VEVENT
DTSTART;TZID=Europe/Rome:20170408T100000
DTEND;TZID=Europe/Rome:20170409T160000
DTSTAMP:20260421T192915
CREATED:20160417T065835Z
LAST-MODIFIED:20180327T134755Z
UID:2826-1491645600-1491753600@www.photo-coco.com
SUMMARY:Florence scenes
DESCRIPTION:Florence scenes: staging the unexpected\nIn this workshop I’ll take you to interesting Florence areas away from the touristic highlights. We’ll focus on capturing the unique qualities of these areas\, and on following our curiosity for unexpected scenes. You’ll get a feeling for places and situations that have potential for dynamic pictures. You’ll experience how being open and waiting for whatever is going to happen next results in surprising be-you-tiful pictures. \n  \nPath: being in seeing | playing\nLanguage: visual language\, English and/or Dutch
URL:https://www.photo-coco.com/event/florence-scenes-april-2017/
LOCATION:Florence\, Florence\, Italy
CATEGORIES:2 days,city scenes,workshop
ORGANIZER;CN="Photo-coco%20%7C%20Hanneke%20van%20Beek":MAILTO:info@photo-coco.com
END:VEVENT
END:VCALENDAR