BEGIN:VCALENDAR
VERSION:2.0
PRODID:-//Photo-coco - ECPv5.14.0.1//NONSGML v1.0//EN
CALSCALE:GREGORIAN
METHOD:PUBLISH
X-WR-CALNAME:Photo-coco
X-ORIGINAL-URL:https://www.photo-coco.com
X-WR-CALDESC:Events for Photo-coco
BEGIN:VTIMEZONE
TZID:Europe/Amsterdam
BEGIN:DAYLIGHT
TZOFFSETFROM:+0100
TZOFFSETTO:+0200
TZNAME:CEST
DTSTART:20160327T010000
END:DAYLIGHT
BEGIN:STANDARD
TZOFFSETFROM:+0200
TZOFFSETTO:+0100
TZNAME:CET
DTSTART:20161030T010000
END:STANDARD
END:VTIMEZONE
BEGIN:VEVENT
DTSTART;TZID=Europe/Amsterdam:20160701T100000
DTEND;TZID=Europe/Amsterdam:20160702T160000
DTSTAMP:20260421T224926
CREATED:20160415T132657Z
LAST-MODIFIED:20180327T134756Z
UID:2808-1467367200-1467475200@www.photo-coco.com
SUMMARY:Magic in Photography: Vitality
DESCRIPTION:What makes your heart jump for joy?\nVitality is one of the most direct doorways to the experience of beauty. Pictures of vitality awaken our life forces and make our heart sing. In this workshop we’ll explore what in the visual world resonates  as Vitality in us: in general and for you personally. \nThis workshop is part of a series in which you’re invited to join a visual beauty quest: an exploration of unique and beautiful ways to personal magic in photography. I’ll guide you through several special doorways\, each of which opens an enchanting perspective on the beauty of our world. \nMy guidance and assignments are focussed on how we experience beauty worldwide\, how you relate to different appearances of beauty and what beauty you bring into the world capturing your experiences in photography. Each workshop we’ll explore what’s behind one of the universally recognized doorways to beauty and discover what resonates in you. \n  \nPath: being in seeing\nHATE TO BRING YOU THE BAD NEWS; NO TICKETS AVAILABLE ANYMORE. BUT HEY\, THERE’LL BE A NEXT TIME…
URL:https://www.photo-coco.com/event/magic-in-photography-vitality-july-2016/
LOCATION:PLACE2C\, Piraeusplein 71\, Amsterdam\, 1019 NM\, Netherlands
CATEGORIES:2 days,magic in photography,workshop
ATTACH;FMTTYPE=image/jpeg:https://www.photo-coco.com/wp-content/uploads/2016/04/20101010_2111-bewerkt-2.jpg
ORGANIZER;CN="Photo-coco%20%7C%20Hanneke%20van%20Beek":MAILTO:info@photo-coco.com
END:VEVENT
END:VCALENDAR