BEGIN:VCALENDAR
VERSION:2.0
PRODID:-//Photo-coco - ECPv5.14.0.1//NONSGML v1.0//EN
CALSCALE:GREGORIAN
METHOD:PUBLISH
X-WR-CALNAME:Photo-coco
X-ORIGINAL-URL:https://www.photo-coco.com
X-WR-CALDESC:Events for Photo-coco
BEGIN:VTIMEZONE
TZID:Europe/Rome
BEGIN:DAYLIGHT
TZOFFSETFROM:+0100
TZOFFSETTO:+0200
TZNAME:CEST
DTSTART:20170326T010000
END:DAYLIGHT
BEGIN:STANDARD
TZOFFSETFROM:+0200
TZOFFSETTO:+0100
TZNAME:CET
DTSTART:20171029T010000
END:STANDARD
END:VTIMEZONE
BEGIN:VEVENT
DTSTART;TZID=Europe/Rome:20170506T140000
DTEND;TZID=Europe/Rome:20170514T140000
DTSTAMP:20260421T210905
CREATED:20170813T132744Z
LAST-MODIFIED:20170813T154325Z
UID:3472-1494079200-1494770400@www.photo-coco.com
SUMMARY:Working and playing in Tuscany\, Italy
DESCRIPTION:Do you feel like joining me for a private workshop in Tuscany\, Italy? Feel free to contact me: info@photo-coco.com \nAvailability in or around Pisa from May 12-14
URL:https://www.photo-coco.com/event/private-photography-workshop-tuscany-italy/
LOCATION:Tuscany\, Pisa\, Italy
CATEGORIES:private workshop,workshop
ATTACH;FMTTYPE=image/jpeg:https://www.photo-coco.com/wp-content/uploads/2017/08/photo-coco-wereldbol.jpg
END:VEVENT
END:VCALENDAR