BEGIN:VCALENDAR
VERSION:2.0
PRODID:-//Photo-coco - ECPv5.14.0.1//NONSGML v1.0//EN
CALSCALE:GREGORIAN
METHOD:PUBLISH
X-WR-CALNAME:Photo-coco
X-ORIGINAL-URL:https://www.photo-coco.com
X-WR-CALDESC:Events for Photo-coco
BEGIN:VTIMEZONE
TZID:Europe/Amsterdam
BEGIN:DAYLIGHT
TZOFFSETFROM:+0100
TZOFFSETTO:+0200
TZNAME:CEST
DTSTART:20180325T010000
END:DAYLIGHT
BEGIN:STANDARD
TZOFFSETFROM:+0200
TZOFFSETTO:+0100
TZNAME:CET
DTSTART:20181028T010000
END:STANDARD
END:VTIMEZONE
BEGIN:VEVENT
DTSTART;TZID=Europe/Amsterdam:20181015T100000
DTEND;TZID=Europe/Amsterdam:20181015T200000
DTSTAMP:20260422T121006
CREATED:20180723T124741Z
LAST-MODIFIED:20180829T132933Z
UID:4068-1539597600-1539633600@www.photo-coco.com
SUMMARY:Working and playing in Valencia\, Spain
DESCRIPTION:Join me for a private workshop in Valencia\, Spain \nJust you and me\, or bring your own crowd… \nFeel free to contact me: info@photo-coco.com \nAvailability October 15th 2018 \nWil je een privé workshop in Valencia\, Spanje? \nJij en ik\, of met een door jou samengestelde groep? \nNeem even contact met me op: info@photo-coco.com \nBeschikbaar 15 oktober 2018
URL:https://www.photo-coco.com/event/valencia-oct2018/
LOCATION:Valencia\, Valencia\, Spain
CATEGORIES:private workshop,workshop
ATTACH;FMTTYPE=image/jpeg:https://www.photo-coco.com/wp-content/uploads/2018/03/photo-coco-wereldbol1.jpg
ORGANIZER;CN="Photo-coco%20%7C%20Hanneke%20van%20Beek":MAILTO:info@photo-coco.com
END:VEVENT
END:VCALENDAR