BEGIN:VCALENDAR
VERSION:2.0
PRODID:-//Photo-coco - ECPv5.14.0.1//NONSGML v1.0//EN
CALSCALE:GREGORIAN
METHOD:PUBLISH
X-WR-CALNAME:Photo-coco
X-ORIGINAL-URL:https://www.photo-coco.com
X-WR-CALDESC:Events for Photo-coco
BEGIN:VTIMEZONE
TZID:Europe/Amsterdam
BEGIN:DAYLIGHT
TZOFFSETFROM:+0100
TZOFFSETTO:+0200
TZNAME:CEST
DTSTART:20170326T010000
END:DAYLIGHT
BEGIN:STANDARD
TZOFFSETFROM:+0200
TZOFFSETTO:+0100
TZNAME:CET
DTSTART:20171029T010000
END:STANDARD
END:VTIMEZONE
BEGIN:VEVENT
DTSTART;TZID=Europe/Amsterdam:20170920T140000
DTEND;TZID=Europe/Amsterdam:20170924T110000
DTSTAMP:20260422T003749
CREATED:20170813T130610Z
LAST-MODIFIED:20170813T160211Z
UID:3468-1505916000-1506250800@www.photo-coco.com
SUMMARY:Working and playing in London\, England
DESCRIPTION:Do you feel like joining me for a private workshop in London\, England? \nFeel free to contact me: info@photo-coco.com \nAvailability September 21-23 \n  \nAnd when there you might as well … \ncheck out a special expo about colour by Hella Jongerius (till September the 24th  2017) \nvisit the new Blavatnik Buiding of Tate Modern \nget to know my favourite museum: the National Portrait Gallery \n  \n 
URL:https://www.photo-coco.com/event/working-and-playing-in-london-england/
LOCATION:Central London
CATEGORIES:private workshop,workshop
ATTACH;FMTTYPE=image/jpeg:https://www.photo-coco.com/wp-content/uploads/2017/08/photo-coco-wereldbol.jpg
END:VEVENT
END:VCALENDAR